BEGIN:VCALENDAR
VERSION:2.0
PRODID:-//Lime Kiln Crafts - ECPv6.0.2//NONSGML v1.0//EN
CALSCALE:GREGORIAN
METHOD:PUBLISH
X-ORIGINAL-URL:https://www.limekilncrafts.co.uk
X-WR-CALDESC:Events for Lime Kiln Crafts
REFRESH-INTERVAL;VALUE=DURATION:PT1H
X-Robots-Tag:noindex
X-PUBLISHED-TTL:PT1H
BEGIN:VTIMEZONE
TZID:Europe/London
BEGIN:DAYLIGHT
TZOFFSETFROM:+0000
TZOFFSETTO:+0100
TZNAME:BST
DTSTART:20160327T010000
END:DAYLIGHT
BEGIN:STANDARD
TZOFFSETFROM:+0100
TZOFFSETTO:+0000
TZNAME:GMT
DTSTART:20161030T010000
END:STANDARD
END:VTIMEZONE
BEGIN:VEVENT
DTSTART;VALUE=DATE:20160626
DTEND;VALUE=DATE:20160627
DTSTAMP:20260419T221649
CREATED:20160522T161858Z
LAST-MODIFIED:20160522T161858Z
UID:710-1466899200-1466985599@www.limekilncrafts.co.uk
SUMMARY:Family Fun Day
DESCRIPTION:
URL:https://www.limekilncrafts.co.uk/event/family-fun-day/
LOCATION:Stonehouse Court Hotel\, Bristol Road\, Stonehouse\, Gloucestershire\, United Kingdom
END:VEVENT
END:VCALENDAR