BEGIN:VCALENDAR
VERSION:2.0
PRODID:-//Lime Kiln Crafts - ECPv6.0.2//NONSGML v1.0//EN
CALSCALE:GREGORIAN
METHOD:PUBLISH
X-WR-CALNAME:Lime Kiln Crafts
X-ORIGINAL-URL:https://www.limekilncrafts.co.uk
X-WR-CALDESC:Events for Lime Kiln Crafts
REFRESH-INTERVAL;VALUE=DURATION:PT1H
X-Robots-Tag:noindex
X-PUBLISHED-TTL:PT1H
BEGIN:VTIMEZONE
TZID:Europe/London
BEGIN:DAYLIGHT
TZOFFSETFROM:+0000
TZOFFSETTO:+0100
TZNAME:BST
DTSTART:20160327T010000
END:DAYLIGHT
BEGIN:STANDARD
TZOFFSETFROM:+0100
TZOFFSETTO:+0000
TZNAME:GMT
DTSTART:20161030T010000
END:STANDARD
END:VTIMEZONE
BEGIN:VEVENT
DTSTART;TZID=Europe/London:20160730T100000
DTEND;TZID=Europe/London:20160730T170000
DTSTAMP:20260421T110905
CREATED:20160217T121600Z
LAST-MODIFIED:20160217T121600Z
UID:592-1469872800-1469898000@www.limekilncrafts.co.uk
SUMMARY:Avebury National Trust Craft Fair
DESCRIPTION:More details to follow
URL:https://www.limekilncrafts.co.uk/event/avebury-national-trust-craft-fair/
LOCATION:Avebury National Trust\, Avebruy Wiltshire\, Avebury\, SN81RF\, United Kingdom
END:VEVENT
END:VCALENDAR